Workbook

Sheet  Autoevaluación CSN
A1: Cultura Seguridad Nuclear (NSC) - Auto Evaluación
C2: Summary of Assessment | E2: =AVERAGE(E11,E15,E19,E23,E29,E32,E37,E41,E44,E47)/10 -> 0
C3: Proveedor | F3: Comentarios:
C4: Localización
C5: Pais
C6: Evaluador
C7: Fecha
A9: C | B9: N | C9: Pregunta | D9: Respuesta | E9: Valor | F9: Justificación Evidencia
C10: Compromiso individual con la seguridad | E10: =AVERAGE(E11,E15,E19)/10 -> 0
A11: PA | B11: 0 | C11: Sección 1 - Responsabilidad Personal (PA) | E11: =IFERROR(AVERAGE(E12:E14),0) -> 0
A12: PA | B12: 1 | C12: ¿Se pide cuentas al personal de todos los niveles en lo que respecta a la calidad y la seguridad nuclear? | E12: =_xlfn.XLOOKUP(D12,Puntuación!A$2:A$6,Puntuación!C$2:C$6," ")
A13: PA | B13: 2 | C13: ¿Existen medidas de calidad (o KPI) y un control eficaz? | E13: =_xlfn.XLOOKUP(D13,Puntuación!A$2:A$6,Puntuación!C$2:C$6," ")
A14: PA | B14: 3 | C14: ¿Demuestran las personas responsabilidad por la seguridad nuclear? | E14: =_xlfn.XLOOKUP(D14,Puntuación!A$2:A$6,Puntuación!C$2:C$6," ")
A15: QA | B15: 0 | C15: Sección 2 - Actitud de desafío y cuestionamiento (QA) | E15: =IFERROR(AVERAGE(E16:E18),0) -> 0
A16: QA | B16: 1 | C16: Si algo parece inseguro o incorrecto, ¿el personal se detiene y pregunta por qué? | E16: =_xlfn.XLOOKUP(D16,Puntuación!A$2:A$6,Puntuación!C$2:C$6," ")
A17: QA | B17: 2 | C17: ¿Se utiliza el principio STAR (Stop Think Act Review) ? | E17: =_xlfn.XLOOKUP(D17,Puntuación!A$2:A$6,Puntuación!C$2:C$6," ")
A18: QA | B18: 3 | C18: ¿Se reconoce, planifica y mitiga la posibilidad de errores? | E18: =_xlfn.XLOOKUP(D18,Puntuación!A$2:A$6,Puntuación!C$2:C$6," ")
A19: PA | B19: 0 | C19: Sección 3 - Comunicación de seguridad (CO) | E19: =IFERROR(AVERAGE(E20:E21),0) -> 0
A20: CO | B20: 1 | C20: ¿Las lecciones aprendidas y las mejoras en seguridad y calidad se comparten ampliamente dentro de la organización? | E20: =_xlfn.XLOOKUP(D20,Puntuación!A$2:A$6,Puntuación!C$2:C$6," ")
A21: CO | B21: 2 | C21: ¿Tiene la organización una póliza CFSI (artículos falsificados, fraudulentos o sospechosos) activa? | E21: =_xlfn.XLOOKUP(D21,Puntuación!A$2:A$6,Puntuación!C$2:C$6," ")
C22: Compromiso dirección con la seguridad | E22: =AVERAGE(E23,E29,E32)/10 -> 0
A23: LA | B23: 0 | C23: Sección 4 - Valores y Acciones de Liderazgo (LA) | E23: =IFERROR(AVERAGE(E24:E27),0) -> 0
A24: LA | B24: 1 | C24: ¿Los líderes sénior hablan con el personal sobre la seguridad nuclear y el impacto de su trabajo en la prevención de accidentes nucleares? | E24: =_xlfn.XLOOKUP(D24,Puntuación!A$2:A$6,Puntuación!C$2:C$6," ")
A25: LA | B25: 2 | C25: ¿Los altos directivos actúan en cuestiones relacionadas con la calidad del producto? | E25: =_xlfn.XLOOKUP(D25,Puntuación!A$2:A$6,Puntuación!C$2:C$6," ")
A26: LA | B26: 0 | C26: ¿Están los líderes sénior abiertos a escuchar ideas relacionadas con la seguridad y la calidad? | E26: =_xlfn.XLOOKUP(D26,Puntuación!A$2:A$6,Puntuación!C$2:C$6," ")
A27: LA | B27: 0 | C27: ¿Los gerentes piden ideas para mejorar la seguridad y la calidad? | E27: =_xlfn.XLOOKUP(D27,Puntuación!A$2:A$6,Puntuación!C$2:C$6," ")
A28: LA | B28: 0 | C28: ¿Existe una Política de Seguridad Nuclear o comprensión de la necesidad de prevenir incidentes o accidentes nucleares? | E28: =_xlfn.XLOOKUP(D28,Puntuación!A$2:A$6,Puntuación!C$2:C$6," ")
A29: DM | B29: 0 | C29: Sección 5 - Toma de decisiones (DM) | E29: =IFERROR(AVERAGE(E30:E31),0) -> 0
A30: DM | B30: 1 | C30: ¿Se prioriza la seguridad nuclear a la hora de tomar decisiones? | E30: =_xlfn.XLOOKUP(D30,Puntuación!A$2:A$6,Puntuación!C$2:C$6," ")
A31: DM | B31: 2 | C31: ¿Tiene la organización responsabilidad individual o de un solo punto en la toma de decisiones en materia de seguridad nuclear? | E31: =_xlfn.XLOOKUP(D31,Puntuación!A$2:A$6,Puntuación!C$2:C$6," ")
A32: WE | B32: 0 | C32: Sección 6 - Entorno de trabajo respetuoso (WE) | E32: =IFERROR(AVERAGE(E33:E34),0) -> 0
A33: WE | B33: 1 | C33: ¿Se alienta al personal a estar atento a cualquier amenaza potencial para la seguridad nuclear? | E33: =_xlfn.XLOOKUP(D33,Puntuación!A$2:A$6,Puntuación!C$2:C$6," ")
A34: WE | B34: 2 | C34: ¿Confía el personal en que se investigarán los problemas de seguridad incluso si desafían la productividad? | E34: =_xlfn.XLOOKUP(D34,Puntuación!A$2:A$6,Puntuación!C$2:C$6," ")
A35: WE | B35: 3 | C35: ¿Se reconocen o recompensan las acciones o intervenciones positivas de seguridad y calidad por parte de las personas? | E35: =_xlfn.XLOOKUP(D35,Puntuación!A$2:A$6,Puntuación!C$2:C$6," ")
C36: Sistemas de gestión | E36: =AVERAGE(E37,E41,E44,E47)/10 -> 0
A37: CL | B37: 0 | C37: Sección 7 - Aprendizaje Continuo (CL) | E37: =IFERROR(AVERAGE(E38:E40),0) -> 0
A38: CL | B38: 1 | C38: ¿Se investigan los incidentes de seguridad y calidad de manera justa y sin culpa? | E38: =_xlfn.XLOOKUP(D38,Puntuación!A$2:A$6,Puntuación!C$2:C$6," ")
A39: CL | B39: 2 | C39: ¿Se identifican y cierran de manera sólida los informes de defectos y no conformidades? | E39: =_xlfn.XLOOKUP(D39,Puntuación!A$2:A$6,Puntuación!C$2:C$6," ")
A40: CL | B40: 3 | C40: ¿Cuenta el contratista con una formación adecuada en materia de cultura de seguridad nuclear? | E40: =_xlfn.XLOOKUP(D40,Puntuación!A$2:A$6,Puntuación!C$2:C$6," ")
A41: PI | B41: 0 | C41: Sección 8 - Identificación y resolución de problemas (PI) | E41: =IFERROR(AVERAGE(E42:E43),0) -> 0
A42: PI | B42: 1 | C42: ¿Reconoce el personal el impacto de su trabajo y el de su empresa en la prevención de futuros accidentes nucleares? | E42: =_xlfn.XLOOKUP(D42,Puntuación!A$2:A$6,Puntuación!C$2:C$6," ")
A43: PI | B43: 2 | C43: ¿Se asigna la propiedad y se supervisa a las acciones de mejora para que se cierren de manera efectiva y a tiempo? | E43: =_xlfn.XLOOKUP(D43,Puntuación!A$2:A$6,Puntuación!C$2:C$6," ")
A44: RC | B44: 0 | C44: Sección 9 - Entorno para plantear inquietudes (RC) | E44: =IFERROR(AVERAGE(E45:E46),0) -> 0
A45: RC | B45: 1 | C45: ¿El personal se siente capacitado para actuar para corregir o prevenir fallas en asuntos de seguridad o calidad? | E45: =_xlfn.XLOOKUP(D45,Puntuación!A$2:A$6,Puntuación!C$2:C$6," ")
A46: RC | B46: 2 | C46: ¿Tiene la organización una política activa y anónima de denuncias? | E46: =_xlfn.XLOOKUP(D46,Puntuación!A$2:A$6,Puntuación!C$2:C$6," ")
A47: WP | B47: 0 | C47: Sección 10 - Procesos de trabajo (WP) | E47: =IFERROR(AVERAGE(E48:E51),0) -> 0
A48: WP | B48: 1 | C48: ¿La organización implementa un proceso de planificación, control y ejecución de las actividades de trabajo de tal manera que la seguridad nuclear es la prioridad absoluta. El proceso de trabajo incluye la identificación y gestión de riesgos proporcionales al trabajo.? | E48: =_xlfn.XLOOKUP(D48,Puntuación!A$2:A$6,Puntuación!C$2:C$6," ")
A49: WP | B49: 2 | C49: ¿ La organización opera dentro de los márgenes de diseño o especificaciones. Los márgenes se protegen cuidadosamente y se modifican solo a través de un proceso sistemático y riguroso. ? | E49: =_xlfn.XLOOKUP(D49,Puntuación!A$2:A$6,Puntuación!C$2:C$6," ")
A50: WP | B50: 3 | C50: ¿ son los procedimientos claros, visibles y cumplidos? | E50: =_xlfn.XLOOKUP(D50,Puntuación!A$2:A$6,Puntuación!C$2:C$6," ")
A51: WP | B51: 4 | C51: ¿ la organización crea y mantiene una documentación completa, precisa y actualizada ? | E51: =_xlfn.XLOOKUP(D51,Puntuación!A$2:A$6,Puntuación!C$2:C$6," ")

Sheet Guia
C1: ORIENTACIÓN
C2: Esta evaluación debe ser realizada por una personal formada en Cultura de Seguiridad Nuclear
C3: La evaluación se realiza en el marco de los 10 rasgos de una cultura de seguridad nuclear saludable de WANO
C4: Asegurarse de que las personas relevantes sean "entrevistadas" y que al menos un representante de la alta dirección sea entrevistado
C5: Siempre que sea posible, solicite pruebas y registre una copia. Fotografíe los tablones de anuncios y la señalización relevantes.
A7: C | B7: N | C7: Pregunta | D7: Sugerencia para la evaluación
C8: COMPROMISO INDIVIDUAL CON LA SEGURIDAD
A9: PA | B9: 0 | C9: Sección 1 - Responsabilidad Personal (PA)
A10: PA | B10: 1 | C10: ¿Se pide cuentas al personal de todos los niveles en lo que respecta a la calidad y la seguridad nuclear?
A11: PA | B11: 2 | C11: ¿Existen medidas de calidad (o KPI) y un control eficaz?
A12: PA | B12: 3 | C12: ¿Demuestran las personas responsabilidad por la seguridad nuclear? | D12: Esto queda a discreción del evaluador. ¿Tiene el contratista casos en los que las personas se han detenido y desafiado/tratado las condiciones cambiantes y han hecho que el trabajo sea seguro?
A13: QA | B13: 0 | C13: Sección 2 - Actitud de desafío y cuestionamiento (QA)
A14: QA | B14: 1 | C14: Si algo parece inseguro o incorrecto, ¿el personal se detiene y pregunta por qué? | D14: Esta es un área clave para todo el personal del proveedor, especialmente los operarios de producción / fabricación y la gente de calidad. Pregunte a las personas si lo han hecho y si creen que pueden. ¿La gente se refiere al enfoque STAR (Stop-Think-Act-Review)?
A15: QA | B15: 2 | C15: ¿Se utiliza el principio STAR (Stop Think Act Review) ? | D15: PARAR - PENSAR - ACTUAR - REVISARAl principio subyacente de las normas ISO 9001 e ISO 19443
A16: QA | B16: 3 | C16: ¿Se reconoce, planifica y mitiga la posibilidad de errores? | D16: Pregunte a las personas qué controles existen para evitar errores. El personal debe reconocer la autoridad para detener el trabajo si algo cambia y se vuelve inseguro. Pregunte a las personas cuál es el impacto potencial en la seguridad nuclear futura si se comete un error y no se detecta. Una buena práctica reconocida es que esto se incluya en los informes previos al trabajo.
A17: PA | B17: 0 | C17: Sección 3 - Comunicación de seguridad (CO)
A18: CO | B18: 1 | C18: ¿Las lecciones aprendidas y las mejoras en seguridad y calidad se comparten ampliamente dentro de la organización?
A19: CO | B19: 2 | C19: ¿Tiene la organización una política activa CFSI (artículos falsificados, fraudulentos o sospechosos) ? | D19: No muchas organizaciones tienen políticas de CFSI, por lo tanto, pregunte dónde se ha destacado CFSI en los acuerdos de la empresa. ¿Tienen material informativo / de concienciación? ¿Qué formación se imparte, a qué personas? Pregunte a una selección de personas cómo cuidan CFSI - almaceneros, operarios, QA / QC
C20: COMPROMISO DE LA DIRECCIÓN CON LA SEGURIDAD
A21: LA | B21: 0 | C21: Sección 4 - Valores y Acciones de Liderazgo (LA)
A22: LA | B22: 1 | C22: ¿Los líderes sénior hablan con el personal sobre la seguridad nuclear y el impacto de su trabajo en la prevención de accidentes nucleares? | D22: ¿Existe un Patrocinador Ejecutivo para la Seguridad Nuclear? ¿Existe un Nuclear Safety Officer?
A23: LA | B23: 2 | C23: ¿Los altos directivos actúan en cuestiones relacionadas con la calidad del producto?
A24: LA | B24: 0 | C24: ¿Están los líderes sénior están abiertos a escuchar ideas relacionadas con la seguridad y la calidad?
A25: LA | B25: 0 | C25: ¿Los gerentes piden ideas para mejorar la seguridad y la calidad?
A26: LA | B26: 0 | C26: ¿Existe una Política de Seguridad Nuclear o comprensión de la necesidad de prevenir incidentes o accidentes nucleares?
A27: DM | B27: 0 | C27: Sección 5 - Toma de decisiones (DM)
A28: DM | B28: 1 | C28: ¿Se prioriza la seguridad nuclear a la hora de tomar decisiones?
A29: DM | B29: 2 | C29: ¿Tiene la organización responsabilidad individual o de un solo punto en la toma de decisiones en materia de seguridad nuclear? | D29: ¿Las reuniones de toma de decisiones / puntos de espera de toma decisiones por consenso grupal o por responsabilidad individual? ¿Se registra/documenta esta rendición de cuentas/actuación ?
A30: WE | B30: 0 | C30: Sección 6 - Entorno de trabajo respetuoso (WE)
A31: WE | B31: 1 | C31: ¿Se alienta al personal a estar atento a cualquier amenaza potencial para la seguridad nuclear?
A32: WE | B32: 2 | C32: ¿Confía el personal en que se investigarán los problemas de seguridad incluso si desafían la productividad?
A33: WE | B33: 3 | C33: ¿Se reconocen o recompensan las acciones o intervenciones positivas de seguridad y calidad por parte de las personas?
C34: SISTEMAS DE GESTIÓN
A35: CL | B35: 0 | C35: Sección 7 - Aprendizaje Continuo (CL)
A36: CL | B36: 1 | C36: ¿Se investigan los incidentes de seguridad y calidad de manera justa y sin culpar?
A37: CL | B37: 2 | C37: ¿Se identifican y cierran de manera sólida los informes de defectos y no conformidades?
A38: CL | B38: 3 | C38: ¿Cuenta el contratista con una formación adecuada en materia de cultura de seguridad nuclear? | D38: 1.Material de formación 2.Cursos de formación - Nuevos principiantes + repaso 3.Registros de asistencia a la formación 4.Pregunte a las personas qué mensajes clave han sacado de la formación del NSC y cómo los aplican en su trabajo diario 5. Como mínimo, esta formación debe incluir: - Una explicación de lo que se entiende por cultura de seguridad nuclear. - Una explicación de lo que se espera de las personas (es decir, un compromiso con el mantenimiento de una cultura de seguridad saludable para identificar y prevenir fallos y errores) - Una explicación de la seguridad nuclear, y por qué la energía nuclear es especial (es decir, los riesgos de fallo son extremadamente graves, amplios y duraderos) - Un reconocimiento de que los comportamientos y acciones individuales pueden tener un impacto en la seguridad nuclear futura. - Un reconocimiento de que las personas deben detenerse, hacer que el trabajo sea seguro y buscar ayuda si no están seguros. - Una explicación de la "defensa en profundidad" y cómo no debemos confiar en las barreras posteriores de defensa - Una explicación de cómo la seguridad y la calidad están interrelacionadas, y cómo un compromiso con la calidad y hacerlo "bien a la primera" puede mejorar la seguridad nuclear del futuro. - Recomendaciones sobre cómo desarrollar una cultura de seguridad saludable, incluido el uso de técnicas de reducción de errores (resúmenes previos al trabajo, controles entre pares, actitud cuestionadora) 6. Una buena práctica reconocida es que esta formación incluya una verificación de conocimientos y/o una "carta" en la que los asistentes confirmen que se mantienen los principios discutidos durante la formación.
A39: PI | B39: 0 | C39: Sección 8 - Identificación y resolución de problemas (PI)
A40: PI | B40: 1 | C40: ¿Reconoce el personal el impacto de su trabajo y el de su empresa en la prevención de futuros accidentes nucleares?
A41: PI | B41: 2 | C41: ¿Se asigna a las acciones de mejora un propietario y se supervisan para que se cierren de manera efectiva y a tiempo?
A42: RC | B42: 0 | C42: Sección 9 - Entorno para plantear inquietudes (RC)
A43: RC | B43: 1 | C43: ¿El personal se siente capacitado/empoderado para actuar para corregir o prevenir fallos/errores en asuntos de seguridad o calidad?
A44: RC | B44: 2 | C44: ¿Tiene la organización una política activa y anónima de denuncias? | D44: ¿Tiene el contratista un método para que el personal plantee inquietudes/preocupaciones de manera anónima?
A45: WP | B45: 0 | C45: Sección 10 - Procesos de trabajo (WP)
A46: WP | B46: 1 | C46: ¿La organización implementa un proceso de planificación, control y ejecución de las actividades de trabajo de tal manera que la seguridad nuclear es la prioridad absoluta. El proceso de trabajo incluye la identificación y gestión de riesgos proporcionales al trabajo.?
A47: WP | B47: 2 | C47: ¿ La organización opera dentro de los márgenes de diseño o especificaciones. Los márgenes se protegen cuidadosamente y se modifican solo a través de un proceso sistemático y riguroso. ?
A48: WP | B48: 3 | C48: ¿ son los procedimientos claros, visibles y cumplidos?
A49: WP | B49: 4 | C49: ¿ la organización crea y mantiene una documentación completa, precisa y actualizada ? | D49: ¿hay lugares donde los equipos estan sin o con documentación incompleta? ¿ los registros de fabricación y control son completados a tiempo? ¿los puntos de parada son correctamente gestionados y no realizados si autorización?

Sheet Self Assessment of NSC
A1: Nuclear Safety Culture - Self Assessment
C2: Summary of Assessment | E2: =AVERAGE(E11,E15,E19,E23,E29,E32,E37,E41,E44,E47)/10 -> 0
C3: Name of Assessor | F3: Comments:
C4: Supplier
C5: Location
C6: Contract Number
C7: Date of Assessment
A9: C | B9: N | C9: Question | D9: Answer | E9: Score | F9: Justification / Evidence
C10: INDIVIDUAL COMMITMENT TO SAFETY | E10: =AVERAGE(E11,E15,E19)/10 -> 0
A11: PA | B11: 0 | C11: Section 1 - Personal Accountability (PA) | E11: =IFERROR(AVERAGE(E12:E14),0) -> 0
A12: PA | B12: 1 | C12: Are staff at all levels held to account when it comes to Quality and Nuclear Safety? | E12: =_xlfn.XLOOKUP(D12,Puntuación!A$2:A$6,Puntuación!C$2:C$6," ")
A13: PA | B13: 2 | C13: Are quality measures (or KPIs) in place and an effective control? | E13: =_xlfn.XLOOKUP(D13,Puntuación!A$2:A$6,Puntuación!C$2:C$6," ")
A14: PA | B14: 3 | C14: Do individuals demonstrate responsibility for nuclear safety? (W) | E14: =_xlfn.XLOOKUP(D14,Puntuación!A$2:A$6,Puntuación!C$2:C$6," ")
A15: QA | B15: 0 | C15: Section 2 - Challenge & Questioning Attitude (QA) | E15: =IFERROR(AVERAGE(E16:E18),0) -> 0
A16: QA | B16: 1 | C16: If something seems unsafe or incorrect, do staff stop and question why? | E16: =_xlfn.XLOOKUP(D16,Puntuación!A$2:A$6,Puntuación!C$2:C$6," ")
A17: QA | B17: 2 | C17: Is the STAR principle used? (W) | E17: =_xlfn.XLOOKUP(D17,Puntuación!A$2:A$6,Puntuación!C$2:C$6," ")
A18: QA | B18: 3 | C18: Does the contractor recognise, plan and mitigate for the possibility of mistakes? (W) | E18: =_xlfn.XLOOKUP(D18,Puntuación!A$2:A$6,Puntuación!C$2:C$6," ")
A19: PA | B19: 0 | C19: Section 3 - Safety Communication (CO) | E19: =IFERROR(AVERAGE(E20:E21),0) -> 0
A20: CO | B20: 1 | C20: Are Lessons Learned and improvements in safety and quality shared widely within the organisation? | E20: =_xlfn.XLOOKUP(D20,Puntuación!A$2:A$6,Puntuación!C$2:C$6," ")
A21: CO | B21: 2 | C21: Does the organisation have an active CFSI (Counterfeit, Fraudulent or Suspect Items) policy? | E21: =_xlfn.XLOOKUP(D21,Puntuación!A$2:A$6,Puntuación!C$2:C$6," ")
C22: MANAGEMENT COMMITMENT TO SAFETY | E22: =AVERAGE(E23,E29,E32)/10 -> 0
A23: LA | B23: 0 | C23: Section 4 - Leadership Values and Actions | E23: =IFERROR(AVERAGE(E24:E27),0) -> 0
A24: LA | B24: 1 | C24: Do senior leaders talk to staff about Nuclear Safety & the impact of their work on preventing nuclear accidents? | E24: =_xlfn.XLOOKUP(D24,Puntuación!A$2:A$6,Puntuación!C$2:C$6," ")
A25: LA | B25: 2 | C25: Do senior leaders act on issues relating to product quality? | E25: =_xlfn.XLOOKUP(D25,Puntuación!A$2:A$6,Puntuación!C$2:C$6," ")
A26: LA | B26: 0 | C26: Are senior leaders open to hearing about safety and quality related ideas? | E26: =_xlfn.XLOOKUP(D26,Puntuación!A$2:A$6,Puntuación!C$2:C$6," ")
A27: LA | B27: 0 | C27: Do managers ask for ideas to improve safety & quality? | E27: =_xlfn.XLOOKUP(D27,Puntuación!A$2:A$6,Puntuación!C$2:C$6," ")
A28: LA | B28: 0 | C28: Is there a Nuclear Safety Policy or understanding of the need to prevent nuclear incidents or accidents | E28: =_xlfn.XLOOKUP(D28,Puntuación!A$2:A$6,Puntuación!C$2:C$6," ")
A29: DM | B29: 0 | C29: Section 5 - Decision Making (DM) | E29: =IFERROR(AVERAGE(E30:E31),0) -> 0
A30: DM | B30: 1 | C30: Is nuclear safety prioritised when making decisions? | E30: =_xlfn.XLOOKUP(D30,Puntuación!A$2:A$6,Puntuación!C$2:C$6," ")
A31: DM | B31: 2 | C31: Does the Organisation have individual / single point accountability for Nuclear Safety Decision making (W) | E31: =_xlfn.XLOOKUP(D31,Puntuación!A$2:A$6,Puntuación!C$2:C$6," ")
A32: WE | B32: 0 | C32: Section 6 - Respectful Working Environment (WE) | E32: =IFERROR(AVERAGE(E33:E34),0) -> 0
A33: WE | B33: 1 | C33: Are staff are encouraged to keep a look out for any potential threats to Nuclear Safety? | E33: =_xlfn.XLOOKUP(D33,Puntuación!A$2:A$6,Puntuación!C$2:C$6," ")
A34: WE | B34: 2 | C34: Are staff confident that safety concerns will be investigated even if they challenge productivity? | E34: =_xlfn.XLOOKUP(D34,Puntuación!A$2:A$6,Puntuación!C$2:C$6," ")
A35: WE | B35: 3 | C35: Are positive safety and quality actions or interventions by individuals recognised or rewarded? | E35: =_xlfn.XLOOKUP(D35,Puntuación!A$2:A$6,Puntuación!C$2:C$6," ")
C36: MANAGEMENT SYSTEMS | E36: =AVERAGE(E37,E41,E44,E47)/10 -> 0
A37: CL | B37: 0 | C37: Section 7 - Continuous Learning (CL) | E37: =IFERROR(AVERAGE(E38:E40),0) -> 0
A38: CL | B38: 1 | C38: Are safety and Quality incidents investigated fairly and without blame? | E38: =_xlfn.XLOOKUP(D38,Puntuación!A$2:A$6,Puntuación!C$2:C$6," ")
A39: CL | B39: 2 | C39: Are Defects and Non Conformance Reports effectively identified and closed out robustly? | E39: =_xlfn.XLOOKUP(D39,Puntuación!A$2:A$6,Puntuación!C$2:C$6," ")
A40: CL | B40: 3 | C40: Has the contractor got suitable Nuclear Safety Culture training provision? (W) | E40: =_xlfn.XLOOKUP(D40,Puntuación!A$2:A$6,Puntuación!C$2:C$6," ")
A41: PI | B41: 0 | C41: Section 8 - Problem Identification and Resolution (PI) | E41: =IFERROR(AVERAGE(E42:E43),0) -> 0
A42: PI | B42: 1 | C42: Do staff recognise the impact of their and their company's work on the prevention of future Nuclear Accidents? | E42: =_xlfn.XLOOKUP(D42,Puntuación!A$2:A$6,Puntuación!C$2:C$6," ")
A43: PI | B43: 2 | C43: Are improvement actions assigned ownership and monitored to close out effectively and on time? | E43: =_xlfn.XLOOKUP(D43,Puntuación!A$2:A$6,Puntuación!C$2:C$6," ")
A44: RC | B44: 0 | C44: Section 9 - Environment for Raising Concerns (RC) | E44: =IFERROR(AVERAGE(E45:E46),0) -> 0
A45: RC | B45: 1 | C45: Do staff feel empowered to act to correct or prevent failure in safety or quality matters? | E45: =_xlfn.XLOOKUP(D45,Puntuación!A$2:A$6,Puntuación!C$2:C$6," ")
A46: RC | B46: 2 | C46: Does the organisation have an active whistleblowing policy? | E46: =_xlfn.XLOOKUP(D46,Puntuación!A$2:A$6,Puntuación!C$2:C$6," ")
A47: WP | B47: 0 | C47: Sección 10 - Work Processes (WP) | E47: =IFERROR(AVERAGE(E48:E51),0) -> 0
A48: WP | B48: 1 | C48: Does the organization implement a process for planning, controlling, and executing work activities in such a way that nuclear safety is the top priority. The work process includes the identification and management of risks proportional to the work. | E48: =_xlfn.XLOOKUP(D48,Puntuación!A$2:A$6,Puntuación!C$2:C$6," ")
A49: WP | B49: 2 | C49: Does the organization operate within design or specification margins? Margins are carefully protected and modified only through a systematic and rigorous process. | E49: =_xlfn.XLOOKUP(D49,Puntuación!A$2:A$6,Puntuación!C$2:C$6," ")
A50: WP | B50: 3 | C50: Are procedures clear, visible and complied with? | E50: =_xlfn.XLOOKUP(D50,Puntuación!A$2:A$6,Puntuación!C$2:C$6," ")
A51: WP | B51: 4 | C51: Does the organisation create and maintain complete, accurate and up-to-date documentation? | E51: =_xlfn.XLOOKUP(D51,Puntuación!A$2:A$6,Puntuación!C$2:C$6," ")

Sheet Guide
C1: GUIDANCE
C2: This assessment should be conducted by a competent assessor / auditor
C3: The assessment is in the framework of the WANO 10 Traits of a Healthy Nuclear Safety Culture - see link for downloadable handbook in various languages
C4: Ensure that relevant people are 'interviewed' at the Supplier and that at least one senior management representative is interviewed
C5: Wherever possible, request evidence and record a copy. Photograph relevant noticeboards and signage.
A7: C | B7: N | C7: Question | D7: Hint for Assessment
C8: INDIVIDUAL COMMITMENT TO SAFETY
A9: PA | B9: 0 | C9: Section 1 - Personal Accountability (PA)
A10: PA | B10: 1 | C10: Are staff at all levels held to account when it comes to Quality and Nuclear Safety?
A11: PA | B11: 2 | C11: Are quality measures (or KPIs) in place and an effective control?
A12: PA | B12: 3 | C12: Do individuals demonstrate responsibility for nuclear safety? | D12: This is at the discretion of the auditor. Does the contractor have instances where individuals have stopped and challenged changing conditions and making work safe?
A13: QA | B13: 0 | C13: Section 2 - Challenge & Questioning Attitude (QA)
A14: QA | B14: 1 | C14: If something seems unsafe or incorrect, do staff stop and question why? | D14: This is a key area for all Supplier personnel, especially Production / Manufacturing Operatives and Quality people. Ask individuals whether they have done this and if they feel that they can. Do people refer to the STAR (Stop-Think-Act-Review) approach?
A15: QA | B15: 2 | C15: Is the STAR principle used? | D15: STOP - THINK - ACT - REVIEW Also an underlying principle of ISO 9001 and ISO 19443
A16: QA | B16: 3 | C16: Does the contractor recognise, plan and mitigate for the possibility of mistakes? | D16: Ask individuals what controls are in place to prevent mistakes. Staff should recognise the authority to stop work if something changes and becomes unsafe. Ask individuals what is the potential impact on future nuclear safety if an error is made and not detected. A recognised good practice is for this to be covered in pre-job briefs.
A17: PA | B17: 0 | C17: Section 3 - Safety Communication (CO)
A18: CO | B18: 1 | C18: Are Lessons Learned and improvements in safety and quality shared widely within the organisation?
A19: CO | B19: 2 | C19: Does the organisation have an active CFSI (Counterfeit, Fraudulent or Suspect Items) policy? | D19: Not many organisations have CFSI policies - So ask where CFSI has been highlighted in the company arrangements. Do they have briefing / awareness material? What training is provided - to which people? Ask a selection of people how they look out for CFSI - Goods Inwards, operators, QA / QC
C20: MANAGEMENT COMMITMENT TO SAFETY
A21: LA | B21: 0 | C21: Section 4 - Leadership Values and Actions
A22: LA | B22: 1 | C22: Do senior leaders talk to staff about Nuclear Safety & the impact of their work on preventing nuclear accidents? | D22: Is there an Executive Sponsor for Nuclear Safety? Is there a NSC SPOC?
A23: LA | B23: 2 | C23: Do senior leaders act on issues relating to product quality?
A24: LA | B24: 0 | C24: Are senior leaders open to hearing about safety and quality related ideas?
A25: LA | B25: 0 | C25: Do managers ask for ideas to improve safety & quality?
A26: LA | B26: 0 | C26: Is there a Nuclear Safety Policy or understanding of the need to prevent nuclear incidents or accidents
A27: DM | B27: 0 | C27: Section 5 - Decision Making (DM)
A28: DM | B28: 1 | C28: Is nuclear safety prioritised when making decisions?
A29: DM | B29: 2 | C29: Does the Organisation have individual / single point accountability for Nuclear Safety Decision making | D29: Do decision making meetings / hold points make decisions by group concensus or an individuals accountability? Is this accountability recorded / documented?
A30: WE | B30: 0 | C30: Section 6 - Respectful Working Environment (WE)
A31: WE | B31: 1 | C31: Are staff are encouraged to keep a look out for any potential threats to Nuclear Safety?
A32: WE | B32: 2 | C32: Are staff confident that safety concerns will be investigated even if they challenge productivity?
A33: WE | B33: 3 | C33: Are positive safety and quality actions or interventions by individuals recognised or rewarded?
C34: MANAGEMENT SYSTEMS
A35: CL | B35: 0 | C35: Section 7 - Continuous Learning (CL)
A36: CL | B36: 1 | C36: Are safety and Quality incidents investigated fairly and without blame?
A37: CL | B37: 2 | C37: Are Defects and Non Conformance Reports effectively identified and closed out robustly?
A38: CL | B38: 3 | C38: Has the contractor got suitable Nuclear Safety Culture training provision? | D38: Training Material Training courses - New Starters + refresher Training attendance registers Ask individuals what key messages they took from the NSC training and how they apply them in their day to day work As a minimum this training should include: - An explanation of what is meant by nuclear safety culture. - An explanation of what is expected from individuals (i.e. a commitment to upholding a healthy safety culture to identify and prevent faults and errors) - An explanation of nuclear safety, and why nuclear power is special (i.e. the risks from failure are extremely severe, wide ranging and long lasting) - A recognition that individual behaviours and actions can impact on future nuclear safety. - A recognition that individuals should stop, make work safe, and seek assistance if unsure. - An explanation of 'defence in depth' and how we should not rely on subsequent barriers of defence - An explanation of how safety and quality are interlinked, and how a commitment to quality and doing it 'right first time' can improve future nuclear safety. - Recommendations on how to develop a healthy safety culture, including the use of error reduction techniques (pre-job briefs, peer checks, questioning attitude) A recognised good practice is for this training to include a knowledge check and/or a 'charter' whereby attendees confirm to uphold the principles discussed during the training.
A39: PI | B39: 0 | C39: Section 8 - Problem Identification and Resolution (PI)
A40: PI | B40: 1 | C40: Do staff recognise the impact of their and their company's work on the prevention of future Nuclear Accidents?
A41: PI | B41: 2 | C41: Are improvement actions assigned ownership and monitored to close out effectively and on time?
A42: RC | B42: 0 | C42: Section 9 - Environment for Raising Concerns (RC)
A43: RC | B43: 1 | C43: Do staff feel empowered to act to correct or prevent failure in safety or quality matters?
A44: RC | B44: 2 | C44: Does the organisation have an active whistleblowing policy? | D44: Does the contractor have a method for staff to raise concerns anonamously?
A45: WP | B45: 0 | C45: Section 10 - Work Processes (WP)
A46: WP | B46: 1 | C46: Does the organization implement a process for planning, controlling, and executing work activities in such a way that nuclear safety is the top priority. The work process includes the identification and management of risks proportional to the work.
A47: WP | B47: 2 | C47: Does the organization operate within design or specification margins? Margins are carefully protected and modified only through a systematic and rigorous process.
A48: WP | B48: 3 | C48: Are procedures clear, visible and complied with?
A49: WP | B49: 4 | C49: Does the organisation create and maintain complete, accurate and up-to-date documentation? | D49: Are there instances where equipment is shipped with outstanding or incomplete documentation? Are manufacturing records completed in a timely manner? Are witness and hold points used correctly, with authorisation provided before equipment moves into future processes?

Sheet Puntuación
A1: PUNTUACIONES | B1: SCORES
A2: No desarrollado | B2: Undeveloped | C2: 0
A3: Poco desarrollado (Inmaduro) | B3: Some Development (Immature) | C3: 2
A4: Algo desarrollado (Poco Maduro) | B4: Moderate Development (Some Maturity) | C4: 5
A5: Bien desarrollado (Maduro) | B5: Good Development (Mature) | C5: 8
A6: Extensamente desarrollado (Muy Maduro) | B6: Extensive Development (Very Mature) | C6: 10
